BEGIN:VCALENDAR
VERSION:2.0
PRODID:-//ChamberMaster//Event Calendar 2.0//EN
METHOD:PUBLISH
X-PUBLISHED-TTL:P3D
REFRESH-INTERVAL:P3D
CALSCALE:GREGORIAN
BEGIN:VEVENT
DTSTART:20200211T170000Z
DTEND:20200211T190000Z
X-MICROSOFT-CDO-ALLDAYEVENT:FALSE
SUMMARY:GovConnects Scale Up: High Impact Capability Statements and Briefings
DESCRIPTION:Learn how to distinguish your company and capture the attention of federal Contracting Officers and Program Managers. This interactive discussion covers what homework to do\, how to book an appointment\, what decision makers are looking for and what follow up actions you should take. Many small contractors fail at this critically important business development step. This discussion will be available to attend in person or via webinar   you can select how you will attend when registering. A link will be emailed to those joining through the webinar.\n\n\n\nEvent Cancellation Policy\n\nCancellations must be received 48 hours before the event to receive a refund. Tickets available at the door as space is available and only with full payment upon arrival. If the Howard County Government Offices are closed to due inclement weather\, HCCC events will be cancelled and reschedule at a later date. Otherwise\, events will take place as scheduled.
X-ALT-DESC;FMTTYPE=text/html:<p>Learn how to distinguish your company and capture the attention of federal Contracting Officers and Program Managers. This interactive discussion covers what homework to do\, how to book an appointment\, what decision makers are looking for and what follow up actions you should take. Many small contractors fail at this critically important business development step.&nbsp\;This discussion will be available to attend in person or via webinar &ndash\; you can select how you will attend when registering. A link will be emailed to those joining through the webinar.<br />\n<br />\n<span style="font-size:9.0pt\;">Event Cancellation Policy<br />\nCancellations must be received 48 hours before the event to receive a refund. Tickets available at the door as space is available and only with full payment upon arrival. If the Howard County Government Offices are closed to due inclement weather\, HCCC events will be cancelled and reschedule at a later date. Otherwise\, events will take place as scheduled.</span><br />\n&nbsp\;</p>\n
LOCATION:
UID:e.3580.2369
SEQUENCE:3
DTSTAMP:20260421T153302Z
URL:https://business.howardchamber.com/events/details/govconnects-scale-up-high-impact-capability-statements-and-briefings-2369
END:VEVENT

END:VCALENDAR
