BEGIN:VCALENDAR
VERSION:2.0
PRODID:-//ChamberMaster//Event Calendar 2.0//EN
METHOD:PUBLISH
X-PUBLISHED-TTL:P3D
REFRESH-INTERVAL:P3D
CALSCALE:GREGORIAN
BEGIN:VEVENT
DTSTART:20210930T200000Z
DTEND:20210930T230000Z
X-MICROSOFT-CDO-ALLDAYEVENT:FALSE
SUMMARY:Howard County General Hospital offers free COVID-19 vaccinations
DESCRIPTION:Howard County General Hospital will offer free Pfizer COVID-19 vaccinations to residents of Howard County\, expanding vaccine access to those who are underserved\, vulnerable and hard to reach. Vaccine clinics will take place at Iglesia de Dios Pentecostal M.I. at 6798 Oak Hall Lane in Columbia. Spanish interpreters will be available. Thursday\, Sept. 30\, from 4 to 7 p.m. Howard County residents 12 and older are eligible for vaccination. A parent or legal guardian must accompany those 12 to 17 years old. To register\, visit bit.ly/hcghvax.
X-ALT-DESC;FMTTYPE=text/html:Howard County General Hospital will offer free Pfizer COVID-19 vaccinations to residents of Howard County\, expanding vaccine access to those who are underserved\, vulnerable and hard to reach. Vaccine clinics will take place at Iglesia de Dios Pentecostal M.I. at 6798 Oak Hall Lane in Columbia. Spanish interpreters will be available. Thursday\, Sept. 30\, from 4 to 7 p.m. Howard County residents 12 and older are eligible for vaccination. A parent or legal guardian must accompany those 12 to 17 years old. To register\, visit bit.ly/hcghvax.
LOCATION:Iglesia de Dios Pentecostal M.I. at 6798 Oak Hall Lane in Columbia
UID:e.3580.3791
SEQUENCE:3
DTSTAMP:20260420T123841Z
URL:https://business.howardchamber.com/events/details/howard-county-general-hospital-offers-free-covid-19-vaccinations-09-30-2021-3791
END:VEVENT

END:VCALENDAR
