BEGIN:VCALENDAR
VERSION:2.0
PRODID:-//ChamberMaster//Event Calendar 2.0//EN
METHOD:PUBLISH
X-PUBLISHED-TTL:P3D
REFRESH-INTERVAL:P3D
CALSCALE:GREGORIAN
BEGIN:VEVENT
DTSTART:20200925T123000Z
DTEND:20200925T183000Z
X-MICROSOFT-CDO-ALLDAYEVENT:FALSE
SUMMARY:Howard County General Hospital’s Mental Health First Aid for Adults
DESCRIPTION:Howard County General Hospital will offer Mental Health First Aid for Adults virtually. Participants will learn to assist someone experiencing a mental health or substance use challenge in a self-paced online course before participating in an instructor-led class using Zoom. Class cost is $30 and includes a digital manual. To register\, visit www.hcgh.org/events. For more information\, contact jstanto6@jhmi.edu or call 410-740-7601.
X-ALT-DESC;FMTTYPE=text/html:Howard County General Hospital will offer Mental Health First Aid for Adults virtually. Participants will learn to assist someone experiencing a mental health or substance use challenge in a self-paced online course before participating in an instructor-led class using Zoom. Class cost is $30 and includes a digital manual. To register\, visit www.hcgh.org/events. For more information\, contact jstanto6@jhmi.edu or call 410-740-7601.
LOCATION:Virtual Event
UID:e.3580.2665
SEQUENCE:3
DTSTAMP:20260421T102329Z
URL:https://business.howardchamber.com/events/details/howard-county-general-hospital-s-mental-health-first-aid-for-adults-2665
END:VEVENT

END:VCALENDAR
