BEGIN:VCALENDAR
VERSION:2.0
PRODID:-//ChamberMaster//Event Calendar 2.0//EN
METHOD:PUBLISH
X-PUBLISHED-TTL:P3D
REFRESH-INTERVAL:P3D
CALSCALE:GREGORIAN
BEGIN:VEVENT
DTSTART:20230412T203000Z
DTEND:20230412T230000Z
X-MICROSOFT-CDO-ALLDAYEVENT:FALSE
SUMMARY:Leadership Howard County’s Big Event
DESCRIPTION:Leadership Howard County will hold its annual Big Event featuring guest speaker Candace Doby\, who will present "Cultivating a Courageous Mindset." A speaker\, author\, podcast host and coach\, Doby will share strategies for increasing courage and stories to empower leaders. Leadership Howard County's Big Event brings together more than 400 leaders from business\, government and nonprofit organizations in Howard County. Proceeds from the event support Leadership Howard County programs and scholarships. General admission tickets cost $100 through March 21 and $75 for veterans\, students and nonprofits with 25 or fewer employees. Beginning March 22\, all tickets cost $125. To register or learn more\, visit bit.ly/BigEvent-2023 or call 410-730-4474.
X-ALT-DESC;FMTTYPE=text/html:Leadership Howard County will hold its annual Big Event featuring guest speaker Candace Doby\, who will present &ldquo\;Cultivating a Courageous Mindset.&rdquo\; A speaker\, author\, podcast host and coach\, Doby will share strategies for increasing courage and stories to empower leaders. Leadership Howard County&rsquo\;s Big Event brings together more than 400 leaders from business\, government and nonprofit organizations in Howard County. Proceeds from the event support Leadership Howard County programs and scholarships. General admission tickets cost $100 through March 21 and $75 for veterans\, students and nonprofits with 25 or fewer employees. Beginning March 22\, all tickets cost $125. To register or learn more\, visit bit.ly/BigEvent-2023 or call 410-730-4474.
LOCATION:Turf Valley Resort 2700 Turf Valley Road Ellicott City
UID:e.3580.4542
SEQUENCE:3
DTSTAMP:20260425T003536Z
URL:https://business.howardchamber.com/events/details/leadership-howard-county-s-big-event-04-12-2023-4542
END:VEVENT

END:VCALENDAR
