BEGIN:VCALENDAR
VERSION:2.0
PRODID:-//ChamberMaster//Event Calendar 2.0//EN
METHOD:PUBLISH
X-PUBLISHED-TTL:P3D
REFRESH-INTERVAL:P3D
CALSCALE:GREGORIAN
BEGIN:VEVENT
DTSTART:20211028T230000Z
DTEND:20211029T000000Z
X-MICROSOFT-CDO-ALLDAYEVENT:FALSE
SUMMARY:Loyola’s Bunting Peace and Justice Speaker Carolyn Forché
DESCRIPTION:Carolyn Forch  will present "Voice of Witness: An Evening with Carolyn Forch ." Renowned as a "poet of witness\," Forch  is the author of five books of poetry\, including "In the Lateness of the World" (2020)\, which was a finalist for the 2021 Pulitzer Prize in poetry. She also wrote the 2019 memoir What You Have Heard Is True\, a 2019 National Book Award finalist. Forch  is Lannan Visiting Professor of Poetry and professor of English at Georgetown University. She will read selections from her poetry and memoir. Registration to attend is encouraged but not required. To learn more and register\, visit the Bunting Peace and Justice Speaker Series event website.
X-ALT-DESC;FMTTYPE=text/html:Carolyn Forch&eacute\; will present &ldquo\;Voice of Witness: An Evening with Carolyn Forch&eacute\;.&rdquo\; Renowned as a &ldquo\;poet of witness\,&rdquo\; Forch&eacute\; is the author of five books of poetry\, including &ldquo\;In the Lateness of the World&rdquo\; (2020)\, which was a finalist for the 2021 Pulitzer Prize in poetry. She also wrote the 2019 memoir What You Have Heard Is True\, a 2019 National Book Award finalist. Forch&eacute\; is Lannan Visiting Professor of Poetry and professor of English at Georgetown University. She will read selections from her poetry and memoir. Registration to attend is encouraged but not required. To learn more and register\, visit the Bunting Peace and Justice Speaker Series event website.
LOCATION:4th Floor Program Room Andrew White Student Center Loyola University Maryland's Evergreen campus 4501 N. Charles Street
UID:e.3580.3799
SEQUENCE:3
DTSTAMP:20260421T021008Z
URL:https://business.howardchamber.com/events/details/loyola-s-bunting-peace-and-justice-speaker-carolyn-forch&#233;-3799
END:VEVENT

END:VCALENDAR
