BEGIN:VCALENDAR
VERSION:2.0
PRODID:-//ChamberMaster//Event Calendar 2.0//EN
METHOD:PUBLISH
X-PUBLISHED-TTL:P3D
REFRESH-INTERVAL:P3D
CALSCALE:GREGORIAN
BEGIN:VEVENT
DTSTART;VALUE=DATE:20230527
DTEND;VALUE=DATE:20230528
TRANSP:TRANSPARENT
X-MICROSOFT-CDO-ALLDAYEVENT:TRUE
SUMMARY:Made From Scratch - Creating the Howard County Jewish Community
DESCRIPTION:The Howard County Welcome Center is excited to be hosting an original exhibit from the Jewish Federation of Howard County\, "Made From Scratch". This exhibit explores the unique origin story of Columbia Maryland's Jewish Community and how that community continues to thrive today.\n\nFor more information on this unique exhibit and its creation\, please visit the website https://hocojewishhistoryproject.org/. \n\nThis exhibit will be on display from May 17th - July 19th during our hours of operation. \n\nThe Welcome Center is open Tuesday - Sunday\, 10am - 5pm\; CLOSED MONDAYS.
X-ALT-DESC;FMTTYPE=text/html:<p>The Howard County Welcome Center is excited to be hosting an original exhibit from the Jewish Federation of Howard County\, &quot\;Made From Scratch&quot\;. This exhibit explores the unique origin story of Columbia Maryland&#39\;s Jewish Community and how that community continues to thrive today.</p>\n\n<p>For more information on this unique exhibit and its creation\, please visit the website&nbsp\;<a href="https://hocojewishhistoryproject.org/" style="box-sizing: border-box\; background: none\; color: rgb(1\, 48\, 60)\; text-decoration-line: none\; line-height: 1.8\; margin: 0px\; border: 0px\; padding: 0px\; border-radius: 0px\; display: inline-block\; transition: all 0.2s ease-in-out 0s\; backface-visibility: hidden\; font-size: 1.125rem\;">https://hocojewishhistoryproject.org/</a>.&nbsp\;</p>\n\n<p>This exhibit will be on display from May 17th - July 19th during our hours of operation.&nbsp\;</p>\n\n<p>The Welcome Center is open Tuesday - Sunday\, 10am - 5pm\; CLOSED MONDAYS.</p>\n
LOCATION:Howard County Welcome Center 8267 Main St Ellicott City MD 21043
UID:e.3580.4634
SEQUENCE:3
DTSTAMP:20260420T150743Z
URL:https://business.howardchamber.com/events/details/made-from-scratch-creating-the-howard-county-jewish-community-05-27-2023-4634
END:VEVENT

END:VCALENDAR
