BEGIN:VCALENDAR
VERSION:2.0
PRODID:-//ChamberMaster//Event Calendar 2.0//EN
METHOD:PUBLISH
X-PUBLISHED-TTL:P3D
REFRESH-INTERVAL:P3D
CALSCALE:GREGORIAN
BEGIN:VEVENT
DTSTART:20210224T190000Z
DTEND:20210224T200000Z
X-MICROSOFT-CDO-ALLDAYEVENT:FALSE
SUMMARY:Risk Prevention Strategies: Avoiding Costly FLSA Missteps
DESCRIPTION:The Fair Labor Standards Act (FLSA) establishes federal minimum wage\, overtime pay\, and recordkeeping requirements. Administration of the FLSA can be complex\, with the consequences of violation leading to stiff penalties. In 2020 the Department of Labor (DOL) collected an average of $706\,000 per day in back wages\, and that number does not include recovery from lawsuits filed in federal and state court.\n\nJoin Nichole Atallah and Matt Feinberg on February 24\, 2021\, at 2 PM ET as they discuss common employer missteps in application of the FLSA\, best practices for FLSA compliance\, and how to prepare if an audit or litigation arises. They'll cover:\n\n\n	common FLSA missteps\;\n	preparing for an audit\;\n	best practices for defending against claims\;\n	recordkeeping\; and\n	much more.\n\n\nThis is the first in a series of PilieroMazza webinars covering Risk Prevention Strategies. This program is pending approval for 1 hour (General) recertification credit toward aPHR \, aPHRi \, PHR \, PHRca \, SPHR \, GPHR \, PHRi  and SPHRi  recertification through the HRCI.
X-ALT-DESC;FMTTYPE=text/html:<p><span style="font-size:14px"><span style="font-family:arial\,helvetica\,sans-serif">The Fair Labor Standards Act (FLSA) establishes federal minimum wage\, overtime pay\, and recordkeeping requirements. Administration of the FLSA can be complex\, with the consequences of violation leading to stiff penalties. In 2020 the Department of Labor (DOL) collected an average of $706\,000 per day in back wages\, and that number does not include recovery from lawsuits filed in federal and state court.</span></span></p>\n\n<p><span style="font-size:14px"><span style="font-family:arial\,helvetica\,sans-serif">Join&nbsp\;<a href="https://www.pilieromazza.com/people/nichole-d-atallah/" style="box-sizing: border-box\; -webkit-tap-highlight-color: transparent\; color: rgb(26\, 170\, 189)\; text-decoration-line: none\; background-color: transparent\; transition: all 0.12s ease-in-out 0s\;">Nichole Atallah</a>&nbsp\;and&nbsp\;<a href="https://www.pilieromazza.com/people/matthew-e-feinberg/" style="box-sizing: border-box\; -webkit-tap-highlight-color: transparent\; color: rgb(26\, 170\, 189)\; text-decoration-line: none\; background-color: transparent\; transition: all 0.12s ease-in-out 0s\;">Matt Feinberg</a>&nbsp\;on February 24\, 2021\, at 2 PM ET as they discuss common employer missteps in application of the FLSA\, best practices for FLSA compliance\, and how to prepare if an audit or litigation arises. They&rsquo\;ll cover:</span></span></p>\n\n<ul>\n	<li><span style="font-size:14px"><span style="font-family:arial\,helvetica\,sans-serif">common FLSA missteps\;</span></span></li>\n	<li><span style="font-size:14px"><span style="font-family:arial\,helvetica\,sans-serif">preparing for an audit\;</span></span></li>\n	<li><span style="font-size:14px"><span style="font-family:arial\,helvetica\,sans-serif">best practices for defending against claims\;</span></span></li>\n	<li><span style="font-size:14px"><span style="font-family:arial\,helvetica\,sans-serif">recordkeeping\; and</span></span></li>\n	<li><span style="font-size:14px"><span style="font-family:arial\,helvetica\,sans-serif">much more.</span></span></li>\n</ul>\n\n<p><span style="font-size:14px"><span style="font-family:arial\,helvetica\,sans-serif">This is the first in a series of&nbsp\;<a href="https://www.pilieromazza.com/" style="box-sizing: border-box\; -webkit-tap-highlight-color: transparent\; color: rgb(26\, 170\, 189)\; text-decoration-line: none\; background-color: transparent\; transition: all 0.12s ease-in-out 0s\;">PilieroMazza</a>&nbsp\;webinars covering Risk Prevention Strategies. This program is pending approval for 1 hour (General) recertification credit toward aPHR&reg\;\, aPHRi&trade\;\, PHR&reg\;\, PHRca&reg\;\, SPHR&reg\;\, GPHR&reg\;\, PHRi&trade\; and SPHRi&trade\; recertification through the HRCI.</span></span></p>\n
LOCATION:Visit this link to register for the webinar.
UID:e.3580.2996
SEQUENCE:3
DTSTAMP:20260423T013837Z
URL:https://business.howardchamber.com/events/details/risk-prevention-strategies-avoiding-costly-flsa-missteps-2996
END:VEVENT

END:VCALENDAR
