BEGIN:VCALENDAR
VERSION:2.0
PRODID:-//ChamberMaster//Event Calendar 2.0//EN
METHOD:PUBLISH
X-PUBLISHED-TTL:P3D
REFRESH-INTERVAL:P3D
CALSCALE:GREGORIAN
BEGIN:VEVENT
DTSTART:20240727T200000Z
DTEND:20240727T230000Z
X-MICROSOFT-CDO-ALLDAYEVENT:FALSE
SUMMARY:Registration Open! Kelly's Cookie Challenge Charity Fundraiser
DESCRIPTION:It's back! Held at our North Bethesda Showroom\, eight teams go head-to-head in crafting the ULTIMATE cookie in support of a cause! A panel of judges will choose the winning cookie\, and the charity backed by that team will receive a BIG cash prize. Hundreds of attendees\, including team members and guests\, will indulge in cookies\, participate in a silent auction\, enjoy an open bar\, savor light bites\, and groove to music\, all while witnessing the exciting competition up close.\n\n\n\nRegister: abw.link/kcc-rsvp\n\nDonate: abw.link/kcc-donate
X-ALT-DESC;FMTTYPE=text/html:<span style="font-size:14px"><span style="color:rgb(0\, 0\, 0)"><span style="font-family:verb light\,helvetica neue\,helvetica\,arial\,sans-serif">It&#39\;s back! Held at our North Bethesda Showroom\, eight teams go head-to-head in crafting the ULTIMATE cookie in support of a cause! A panel of judges will choose the winning cookie\, and the charity backed by that team will receive a BIG cash prize. Hundreds of attendees\, including team members and guests\, will indulge in cookies\, participate in a silent auction\, enjoy an open bar\, savor light bites\, and groove to music\, all while witnessing the exciting competition up close.<br />\n<br />\nRegister:&nbsp\;<a href="http://abw.link/kcc-rsvp">abw.link/kcc-rsvp</a></span></span></span><br />\n<span style="color:rgb(0\, 0\, 0)"><span style="font-family:verb light\,helvetica neue\,helvetica\,arial\,sans-serif\; font-size:16px"><span style="font-size:14px">Donate:&nbsp\;<a href="http://abw.link/kcc-donate">abw.link/kcc-donate</a></span></span></span>
LOCATION:ABW Appliances Noth Bethesda Showroom: 5526 Nicholson Ln\, North Bethesda\, MD 20852
UID:e.3580.5139
SEQUENCE:3
DTSTAMP:20260424T185934Z
URL:https://business.howardchamber.com/events/details/save-the-date-kelly-s-cookie-challenge-5139
END:VEVENT

END:VCALENDAR
